BEGIN:VCALENDAR
VERSION:2.0
PRODID:-//Evangelische Jugend Essen//Kalender//DE
CALSCALE:GREGORIAN
METHOD:PUBLISH
BEGIN:VEVENT
UID:eje-3907_2@ejessen.de
DTSTAMP:20260420T090210Z
DTSTART:20260713T180000
DTEND:20260713T210000
SUMMARY:Prävention Basis+ (Abendveranstaltung) - Teil II
END:VEVENT
END:VCALENDAR
