BEGIN:VCALENDAR
VERSION:2.0
PRODID:-//Evangelische Jugend Essen//Kalender//DE
CALSCALE:GREGORIAN
METHOD:PUBLISH
BEGIN:VEVENT
UID:eje-3905_1@ejessen.de
DTSTAMP:20260420T090629Z
DTSTART:20260314T000000
DTEND:20260314T235959
LOCATION:Weigle Haus, Hohenburgstraße 96, 45128 Essen
SUMMARY:Forum Kinder, Jugend und Familie
END:VEVENT
END:VCALENDAR
