BEGIN:VCALENDAR
VERSION:2.0
PRODID:-//Evangelische Jugend Essen//Kalender//DE
CALSCALE:GREGORIAN
METHOD:PUBLISH
BEGIN:VEVENT
UID:eje-3904_1@ejessen.de
DTSTAMP:20260420T090914Z
DTSTART:20260228T100000
DTEND:20260228T170000
SUMMARY:Prävention Basis+ (Tagesveranstaltung)
END:VEVENT
END:VCALENDAR
