BEGIN:VCALENDAR
VERSION:2.0
PRODID:-//Evangelische Jugend Essen//Kalender//DE
CALSCALE:GREGORIAN
METHOD:PUBLISH
BEGIN:VEVENT
UID:eje-3901_1@ejessen.de
DTSTAMP:20260420T090416Z
DTSTART:20260529T000000
DTEND:20260531T235959
SUMMARY:Juleica Camp
DESCRIPTION:Ein langes Wochenende, freitags mit Schulbefreiung. Juleica-Inhalte, zum Wiederholen und Vertiefen. Mit anderen Engagierten netzwerken. Ein umspannendes, verbindendes Thema, mit erfrischenden Impulsen. Für alle, die schon eine Juleica-Grundausbildung haben oder demnächst absolvieren möchten. Jugendverband live - Gemeinschaft pur. EJE on tour!\nIns Juleica Camp wird allgemein eingeladen, wer in den letzten zwei bis drei Jahren die Juleica-Grundausbildung absolviert hat. Gleichzeitig nehmen wir alle mit, die sich zu diesem Anlass interessieren mit uns als eJE unterwegs zu sein und das Mindestalter von 16 Jahren erreicht haben.
END:VEVENT
END:VCALENDAR
