BEGIN:VCALENDAR
VERSION:2.0
PRODID:-//Evangelische Jugend Essen//Kalender//DE
CALSCALE:GREGORIAN
METHOD:PUBLISH
BEGIN:VEVENT
UID:eje-3898_1@ejessen.de
DTSTAMP:20260420T090119Z
DTSTART:20260310T000000
DTEND:20260311T235959
LOCATION:Evangelische Jugendbildungsstätte Hackhauser Hof, Hackhausen 5 b, 42697 Solingen
SUMMARY:Konventsklausur
END:VEVENT
END:VCALENDAR
