BEGIN:VCALENDAR
VERSION:2.0
PRODID:-//Evangelische Jugend Essen//Kalender//DE
CALSCALE:GREGORIAN
METHOD:PUBLISH
BEGIN:VEVENT
UID:eje-3884_1@ejessen.de
DTSTAMP:20260420T091307Z
DTSTART:20261107T000000
DTEND:20261107T235959
SUMMARY:Jugendverbandsversammlung (JVV)
END:VEVENT
END:VCALENDAR
