BEGIN:VCALENDAR
VERSION:2.0
PRODID:-//Evangelische Jugend Essen//Kalender//DE
CALSCALE:GREGORIAN
METHOD:PUBLISH
BEGIN:VEVENT
UID:eje-3725_1@ejessen.de
DTSTAMP:20260422T092059Z
DTSTART:20260211T100000
DTEND:20260211T120000
LOCATION:III. Hagen 39, 45127 Essen
SUMMARY:Schulung - Ansprechpersonen für Führungszeugnisse
END:VEVENT
END:VCALENDAR
