BEGIN:VCALENDAR
VERSION:2.0
PRODID:-//Evangelische Jugend Essen//Kalender//DE
CALSCALE:GREGORIAN
METHOD:PUBLISH
BEGIN:VEVENT
UID:eje-3724_1@ejessen.de
DTSTAMP:20260422T090244Z
DTSTART:20260825T000000
DTEND:20260829T235959
SUMMARY:Zirkus Projekt
END:VEVENT
END:VCALENDAR
