BEGIN:VCALENDAR
VERSION:2.0
PRODID:-//Evangelische Jugend Essen//Kalender//DE
CALSCALE:GREGORIAN
METHOD:PUBLISH
BEGIN:VEVENT
UID:eje-3707_6@ejessen.de
DTSTAMP:20260422T092545Z
DTSTART:20261104T103000
DTEND:20261104T130000
SUMMARY:Arbeitskreis Offene Arbeit (AKOA)
END:VEVENT
END:VCALENDAR
