BEGIN:VCALENDAR
VERSION:2.0
PRODID:-//Evangelische Jugend Essen//Kalender//DE
CALSCALE:GREGORIAN
METHOD:PUBLISH
BEGIN:VEVENT
UID:eje-3707_4@ejessen.de
DTSTAMP:20260422T092653Z
DTSTART:20260701T103000
DTEND:20260701T130000
SUMMARY:Arbeitskreis Offene Arbeit (AKOA)
END:VEVENT
END:VCALENDAR
