BEGIN:VCALENDAR
VERSION:2.0
PRODID:-//Evangelische Jugend Essen//Kalender//DE
CALSCALE:GREGORIAN
METHOD:PUBLISH
BEGIN:VEVENT
UID:eje-3707_1@ejessen.de
DTSTAMP:20260420T090718Z
DTSTART:20260114T103000
DTEND:20260114T130000
SUMMARY:Arbeitskreis Offene Arbeit (AKOA)
END:VEVENT
END:VCALENDAR
